BEGIN:VCALENDAR
VERSION:2.0
PRODID:-//Smart Weigh - ECPv5.10.0//NONSGML v1.0//EN
CALSCALE:GREGORIAN
METHOD:PUBLISH
X-WR-CALNAME:Smart Weigh
X-ORIGINAL-URL:https://smartweigh757.com
X-WR-CALDESC:Events for Smart Weigh
BEGIN:VTIMEZONE
TZID:UTC
BEGIN:STANDARD
TZOFFSETFROM:+0000
TZOFFSETTO:+0000
TZNAME:UTC
DTSTART:20170101T000000
END:STANDARD
END:VTIMEZONE
BEGIN:VEVENT
DTSTART;TZID=UTC:20171219T180000
DTEND;TZID=UTC:20171219T190000
DTSTAMP:20260421T141104
CREATED:20171206T193429Z
LAST-MODIFIED:20171206T193429Z
UID:4957-1513706400-1513710000@smartweigh757.com
SUMMARY:Ideal Protein Educational Workshop
DESCRIPTION:If you are ready to find out more about how you can increase your quality of life and live your healthiest best life. Sign up for our free\, no obligation educational workshop. \nThe workshop will include: \n\nPresentation by Dr. Coleman\nMeet your coach Amber\nBody Composition Analysis Reading\nIdeal Protein Food Sample
URL:https://smartweigh757.com/event/ideal-protein-educational-workshop/2017-12-19/
END:VEVENT
END:VCALENDAR